BEGIN:VCALENDAR
VERSION:2.0
PRODID:-//Akademi Metrologi dan Instrumenasi - ECPv6.15.20//NONSGML v1.0//EN
CALSCALE:GREGORIAN
METHOD:PUBLISH
X-ORIGINAL-URL:https://v3.akmet.ac.id
X-WR-CALDESC:Events for Akademi Metrologi dan Instrumenasi
REFRESH-INTERVAL;VALUE=DURATION:PT1H
X-Robots-Tag:noindex
X-PUBLISHED-TTL:PT1H
BEGIN:VTIMEZONE
TZID:Asia/Jakarta
BEGIN:STANDARD
TZOFFSETFROM:+0700
TZOFFSETTO:+0700
TZNAME:WIB
DTSTART:20240101T000000
END:STANDARD
END:VTIMEZONE
BEGIN:VEVENT
DTSTART;VALUE=DATE:20260113
DTEND;VALUE=DATE:20260114
DTSTAMP:20260426T092411
CREATED:20260112T023119Z
LAST-MODIFIED:20260112T023146Z
UID:5991-1768262400-1768348799@v3.akmet.ac.id
SUMMARY:Pengabdian kepada Masyarakat (PkM) di SMAN 7 Bandung
DESCRIPTION:Pengabdian Kepada Masyarakat Dosen Akmet di SMAN 7 Bandung \n \nDaftar Hadir
URL:https://v3.akmet.ac.id/event/pengabdian-kepada-masyarakat-pkm-di-sman-7-bandung/
CATEGORIES:Pengabdian
END:VEVENT
BEGIN:VEVENT
DTSTART;VALUE=DATE:20251222
DTEND;VALUE=DATE:20251223
DTSTAMP:20260426T092411
CREATED:20251219T114150Z
LAST-MODIFIED:20251219T114226Z
UID:5897-1766361600-1766447999@v3.akmet.ac.id
SUMMARY:Kunjungan Dinas Perdagangan Kota Metro
DESCRIPTION:
URL:https://v3.akmet.ac.id/event/kunjungan-dinas-perdagangan-kota-metro/
LOCATION:Akademi Metrologi dan Instrumentasi
CATEGORIES:Kerjasama
END:VEVENT
BEGIN:VEVENT
DTSTART;TZID=Asia/Jakarta:20251213T090000
DTEND;TZID=Asia/Jakarta:20251213T150000
DTSTAMP:20260426T092411
CREATED:20251212T112139Z
LAST-MODIFIED:20251212T112544Z
UID:5804-1765616400-1765638000@v3.akmet.ac.id
SUMMARY:Temu Alumni Akmet 2025. "Pembentukan Pengurus Ikatan Alumni Akmet dan FGD Tracer Study"
DESCRIPTION:📢 TEMU ALUMNI AKMET 2025\n“PEMBENTUKAN IKATAN ALUMNI AKMET DAN FGD TRACER STUDY” \nHalo Sobat Akmet! 🎓💼✨ \n🌟 Saatnya reuni\, kolaborasi\, dan membangun jejaring profesional!\nAkademi Metrologi dan Instrumentasi mengundang seluruh alumni dalam acara Temu Alumni Akmet 2025 sekaligus FGD Tracer Study untuk memperkuat hubungan\, berbagi pengalaman\, serta menyusun langkah strategis menuju terbentuknya Pengurus Ikatan Alumni Akmet.\nAcara ini menjadi wadah silaturahmi lintas angkatan serta forum diskusi konstruktif demi pengembangan Akmet ke depan. \n🎤 Pembicara:\nDiena Habibatina Elma’arifah (Alumni Akmet 2020)\nKevin Dewanto Herlambang (Alumni Akmet 2016) \n📅 Waktu & Tempat:\n🗓 13 Desember 2025\n🕘 09.00 – 15.00 WIB\n📍 Hybrid Event\n🔹 Offline: Gedung B Lantai 2\, Kampus Akmet Sumedang\n🔹 Online: Zoom Meeting (https://kemend.ag/ZoomTemuAlumni) \n📌 Pendaftaran:\n🔗 https://kemend.ag/Daftar_TemuAlumniAkmet2025 \n💬 Jangan lewatkan kesempatan untuk terhubung kembali\, bertukar insight\, dan turut serta membangun jaringan alumni yang solid serta berkontribusi bagi perkembangan Akmet!
URL:https://v3.akmet.ac.id/event/5804/
LOCATION:Akademi Metrologi dan Instrumentasi
END:VEVENT
BEGIN:VEVENT
DTSTART;TZID=Asia/Jakarta:20251121T090000
DTEND;TZID=Asia/Jakarta:20251121T110000
DTSTAMP:20260426T092411
CREATED:20251119T105108Z
LAST-MODIFIED:20251120T032544Z
UID:5706-1763715600-1763722800@v3.akmet.ac.id
SUMMARY:Seminar HMMI 2025: Dari Pengalaman Menuju Inspirasi
DESCRIPTION:Himpunan Mahasiswa Metrologi (HMMI) Akademi Metrologi dan Instrumentasi (Akmet)\, Kementerian Perdagangan Republik Indonesia\, dengan hormat mengundang insan metrologi dan masyarakat di seluruh Indonesia untuk berpartisipasi dalam kegiatan Webinar Nasional yang akan diselenggarakan pada: \nHari/Tanggal: Jumat\, 21 November 2025\nWaktu: 09.00 – 11.00 WIB\nLokasi: Gedung B Lantai 1\, Kampus Akmet\nPlatform Online Zoom: https://kemend.ag/SeminarHMMI2025 \nTopik yang akan dibahas:\n– Pengenalan Metrologi dan Instrumentasi dalam kehidupan sehari-hari\n– Diskusi interaktif mengenai peran dan prospek bidang Metrologi dan Instrumentasi\n– Paparan inspiratif dari narasumber berpengalaman \n📌 Pendaftaran: https://kemend.ag/Pendaftaran_SeminarHMMI2025
URL:https://v3.akmet.ac.id/event/seminar-hmmi-2025-dari-pengalaman-menuju-inspirasi/
LOCATION:Akademi Metrologi dan Instrumentasi
END:VEVENT
BEGIN:VEVENT
DTSTART;VALUE=DATE:20251107
DTEND;VALUE=DATE:20251108
DTSTAMP:20260426T092411
CREATED:20251106T191103Z
LAST-MODIFIED:20251118T041125Z
UID:5618-1762473600-1762559999@v3.akmet.ac.id
SUMMARY:Technical Visit from NMI Malaysia
DESCRIPTION:
URL:https://v3.akmet.ac.id/event/technical-visit-from-nmi-malaysia/
CATEGORIES:Kerjasama,Perkuliahan
END:VEVENT
BEGIN:VEVENT
DTSTART;TZID=Asia/Jakarta:20251021T090000
DTEND;TZID=Asia/Jakarta:20251021T130000
DTSTAMP:20260426T092411
CREATED:20251020T065129Z
LAST-MODIFIED:20251020T222547Z
UID:5475-1761037200-1761051600@v3.akmet.ac.id
SUMMARY:Kuliah Umum: Membangun SDM Unggul di Bidang Kemetrologian
DESCRIPTION:  \n  \nDaftar Hadir Acara
URL:https://v3.akmet.ac.id/event/kuliah-umum-membangun-sdm-unggul-di-bidang-kemetrologian/
CATEGORIES:Perkuliahan
END:VEVENT
BEGIN:VEVENT
DTSTART;VALUE=DATE:20251017
DTEND;VALUE=DATE:20251018
DTSTAMP:20260426T092411
CREATED:20251015T065947Z
LAST-MODIFIED:20251015T065947Z
UID:5424-1760659200-1760745599@v3.akmet.ac.id
SUMMARY:Pengabdian Kepada Masyarakat di SMAN 2 Bandung
DESCRIPTION:Pengabdian Kepada Masyarakat Dosen Akmet di SMAN 2 Bandung \n \n  \nDaftar Hadir \n \nDaftar Materi \n\nPengantar Metrologi\nBarang Dalam Keadaan Terbungkus (BDKT)\n\n  \n  \nKuisioner Informasi Tentang Akmet
URL:https://v3.akmet.ac.id/event/pengabdian-kepada-masyarakat-di-sman-2-bandung/
LOCATION:SMAN 2 Bandung
CATEGORIES:Pengabdian
END:VEVENT
BEGIN:VEVENT
DTSTART;VALUE=DATE:20251016
DTEND;VALUE=DATE:20251017
DTSTAMP:20260426T092411
CREATED:20251015T071323Z
LAST-MODIFIED:20251015T071520Z
UID:5458-1760572800-1760659199@v3.akmet.ac.id
SUMMARY:Pengabdian Kepada Masyarakat di SMAN 24 Bandung
DESCRIPTION:Pengabdian Kepada Masyarakat Dosen Akmet di SMAN 24 Bandung \n  \nDaftar Hadir \n \n  \n  \nKuisioner Informasi Tentang Akmet
URL:https://v3.akmet.ac.id/event/pengabdian-kepada-masyarakat-di-sman-24-bandung/
LOCATION:SMAN 24 Bandung
CATEGORIES:Pengabdian
END:VEVENT
BEGIN:VEVENT
DTSTART;VALUE=DATE:20251015
DTEND;VALUE=DATE:20251016
DTSTAMP:20260426T092411
CREATED:20251013T070453Z
LAST-MODIFIED:20251015T045918Z
UID:5367-1760486400-1760572799@v3.akmet.ac.id
SUMMARY:Pengabdian Kepada Masyarakat di SMAN 1 Cikijing
DESCRIPTION:Pengabdian Kepada Masyarakat Dosen Akmet di SMAN 1 Cikijing \n \n  \nDaftar Hadir \n \n  \nDaftar Materi \n\n\n\nPengenalan Metrologi\nPengenalan Alat Ukur\nPeran Metrologi dalam Pelabelan Kemasan BDKT (Barang Dalam Keadaan Terbungkus)\n\n\n\n  \nKuisioner Informasi tentang Akmet \n \n  \n 
URL:https://v3.akmet.ac.id/event/pengabdian-kepada-masyarakat-di-sman-1-cikijing/
LOCATION:SMAN 1 Cikijing
CATEGORIES:Pengabdian
END:VEVENT
BEGIN:VEVENT
DTSTART;VALUE=DATE:20251014
DTEND;VALUE=DATE:20251015
DTSTAMP:20260426T092411
CREATED:20251013T014932Z
LAST-MODIFIED:20251013T014934Z
UID:5345-1760400000-1760486399@v3.akmet.ac.id
SUMMARY:Kunjungan Kabupaten Aceh Tengah
DESCRIPTION:
URL:https://v3.akmet.ac.id/event/kunjungan-kabupaten-aceh-tengah/
CATEGORIES:Kerjasama
END:VEVENT
BEGIN:VEVENT
DTSTART;VALUE=DATE:20251010
DTEND;VALUE=DATE:20251011
DTSTAMP:20260426T092411
CREATED:20251001T034718Z
LAST-MODIFIED:20251001T034720Z
UID:5235-1760054400-1760140799@v3.akmet.ac.id
SUMMARY:Pemantauan Akreditasi LAM Teknik
DESCRIPTION:
URL:https://v3.akmet.ac.id/event/pemantauan-akreditasi-lam-teknik/
CATEGORIES:Penelitian,Pengabdian,Perkuliahan
END:VEVENT
BEGIN:VEVENT
DTSTART;VALUE=DATE:20250917
DTEND;VALUE=DATE:20250918
DTSTAMP:20260426T092411
CREATED:20250829T034853Z
LAST-MODIFIED:20250903T063509Z
UID:4968-1758067200-1758153599@v3.akmet.ac.id
SUMMARY:Wisuda ke-7 Akmet Tahun 2025
DESCRIPTION:Pengumuman Pelaksanaan Wisuda Semester Genap 24-25
URL:https://v3.akmet.ac.id/event/wisuda-ke-7-akmet-tahun-2025/
CATEGORIES:Perkuliahan
END:VEVENT
BEGIN:VEVENT
DTSTART;VALUE=DATE:20250902
DTEND;VALUE=DATE:20250903
DTSTAMP:20260426T092411
CREATED:20250829T113730Z
LAST-MODIFIED:20250829T113731Z
UID:4971-1756771200-1756857599@v3.akmet.ac.id
SUMMARY:Permohonan Audiensi Kab. Belitung Timur
DESCRIPTION:Permohonan Audiensi Belitung Timur
URL:https://v3.akmet.ac.id/event/permohonan-audiensi-kab-belitung-timur/
CATEGORIES:Kerjasama
END:VEVENT
BEGIN:VEVENT
DTSTART;VALUE=DATE:20250901
DTEND;VALUE=DATE:20250903
DTSTAMP:20260426T092411
CREATED:20250712T024827Z
LAST-MODIFIED:20250712T024829Z
UID:4502-1756684800-1756857599@v3.akmet.ac.id
SUMMARY:Daftar Ulang Peserta PMB Gel. II
DESCRIPTION:
URL:https://v3.akmet.ac.id/event/daftar-ulang-peserta-pmb-gel-ii/
CATEGORIES:PMB
END:VEVENT
BEGIN:VEVENT
DTSTART;VALUE=DATE:20250820
DTEND;VALUE=DATE:20250821
DTSTAMP:20260426T092411
CREATED:20250712T024746Z
LAST-MODIFIED:20250712T024748Z
UID:4500-1755648000-1755734399@v3.akmet.ac.id
SUMMARY:Pengumuman Hasil Seleksi PMB Gel. II
DESCRIPTION:
URL:https://v3.akmet.ac.id/event/pengumuman-hasil-seleksi-pmb-gel-ii/
CATEGORIES:PMB
END:VEVENT
BEGIN:VEVENT
DTSTART;VALUE=DATE:20250814
DTEND;VALUE=DATE:20250815
DTSTAMP:20260426T092411
CREATED:20250712T024716Z
LAST-MODIFIED:20250712T024718Z
UID:4498-1755129600-1755215999@v3.akmet.ac.id
SUMMARY:Psikotest dan Wawancara secara online PMB Gel. II
DESCRIPTION:Psikotest dan Wawancara secara online (Tata Cara Psikotest dan Wawancara disampaikan kemudian)
URL:https://v3.akmet.ac.id/event/psikotest-dan-wawancara-secara-online-pmb-gel-ii/
CATEGORIES:PMB
END:VEVENT
BEGIN:VEVENT
DTSTART;VALUE=DATE:20250811
DTEND;VALUE=DATE:20250812
DTSTAMP:20260426T092411
CREATED:20250712T024625Z
LAST-MODIFIED:20250712T024627Z
UID:4496-1754870400-1754956799@v3.akmet.ac.id
SUMMARY:Test Kemampuan Akademik secara online PMB Gel. II
DESCRIPTION:Test Kemampuan Akademik secara online  \n\nMatematika\nFisika\nUmum (Bahasa Inggris\, Bahasa Indonesia\, Pengetahuan Umum\, Kimia)\nTata Cara TKA disampaikan kemudian
URL:https://v3.akmet.ac.id/event/test-kemampuan-akademik-secara-online-pmb-gel-ii/
CATEGORIES:PMB
END:VEVENT
BEGIN:VEVENT
DTSTART;TZID=Asia/Jakarta:20250808T100000
DTEND;TZID=Asia/Jakarta:20250808T113000
DTSTAMP:20260426T092411
CREATED:20250808T013821Z
LAST-MODIFIED:20250808T013822Z
UID:4732-1754647200-1754652600@v3.akmet.ac.id
SUMMARY:Menerima kunjungan BSN
DESCRIPTION:Permohonan Kunjungan Kerja untuk Kerja Sama Kurikulum Pendidikan Standardisasi dan Penilaian Kesesuaian.
URL:https://v3.akmet.ac.id/event/menerima-kunjungan-bsn/
CATEGORIES:Kerjasama
END:VEVENT
BEGIN:VEVENT
DTSTART;VALUE=DATE:20250807
DTEND;VALUE=DATE:20250808
DTSTAMP:20260426T092411
CREATED:20250712T024504Z
LAST-MODIFIED:20250712T024505Z
UID:4494-1754524800-1754611199@v3.akmet.ac.id
SUMMARY:Pengumuman Hasil Seleksi Administrasi PMB Gel. II
DESCRIPTION:Pengumuman Hasil Seleksi Administrasi
URL:https://v3.akmet.ac.id/event/pengumuman-hasil-seleksi-administrasi-pmb-gel-ii/
CATEGORIES:PMB
END:VEVENT
BEGIN:VEVENT
DTSTART;VALUE=DATE:20250804
DTEND;VALUE=DATE:20250806
DTSTAMP:20260426T092411
CREATED:20250712T024419Z
LAST-MODIFIED:20250712T024421Z
UID:4492-1754265600-1754438399@v3.akmet.ac.id
SUMMARY:Verifikasi PMB Gel. II
DESCRIPTION:Verifikasi Dokumen Persyaratan Administrasi
URL:https://v3.akmet.ac.id/event/verifikasi-pmb-gel-ii/
CATEGORIES:PMB
END:VEVENT
BEGIN:VEVENT
DTSTART;TZID=Asia/Jakarta:20250723T140000
DTEND;TZID=Asia/Jakarta:20250723T160000
DTSTAMP:20260426T092411
CREATED:20250717T090043Z
LAST-MODIFIED:20250717T090045Z
UID:4565-1753279200-1753286400@v3.akmet.ac.id
SUMMARY:Webinar Akmet 23 Juli 2025
DESCRIPTION:
URL:https://v3.akmet.ac.id/event/webinar-akmet-23-juli-2025/
CATEGORIES:PMB
END:VEVENT
BEGIN:VEVENT
DTSTART;VALUE=DATE:20250714
DTEND;VALUE=DATE:20250802
DTSTAMP:20260426T092411
CREATED:20250712T024300Z
LAST-MODIFIED:20250712T024302Z
UID:4490-1752451200-1754092799@v3.akmet.ac.id
SUMMARY:Pendaftaran Online PMB Gel. II
DESCRIPTION:Pendaftaran Online: \n\nPembuatan akun menggunakan email dan NIK\nPilih Jalur Undangan atau Jalur Umum\nPengisian Biodata\nPengunggahan Dokumen Persyaratan Administrasi\nUnggah Nilai Rapor\nUnggah Bukti Pembayaran\nSimpan Permanen
URL:https://v3.akmet.ac.id/event/pendaftaran-online-pmb-gel-ii/
CATEGORIES:PMB
END:VEVENT
BEGIN:VEVENT
DTSTART;VALUE=DATE:20250709
DTEND;VALUE=DATE:20250710
DTSTAMP:20260426T092411
CREATED:20250315T035043Z
LAST-MODIFIED:20250315T035043Z
UID:3218-1752019200-1752105599@v3.akmet.ac.id
SUMMARY:Pengumuman Penerima Beasiswa Jalur Reguler
DESCRIPTION:
URL:https://v3.akmet.ac.id/event/pengumuman-penerima-beasiswa-jalur-reguler/
CATEGORIES:PMB
END:VEVENT
BEGIN:VEVENT
DTSTART;VALUE=DATE:20250707
DTEND;VALUE=DATE:20250724
DTSTAMP:20260426T092411
CREATED:20250707T082349Z
LAST-MODIFIED:20250709T072654Z
UID:4435-1751846400-1753315199@v3.akmet.ac.id
SUMMARY:Perubahan Pendaftaran Sidang Tugas Akhir
DESCRIPTION:Berdasarkan pengumuman.
URL:https://v3.akmet.ac.id/event/perubahan-pendaftaran-sidang-tugas-akhir/
CATEGORIES:Perkuliahan
END:VEVENT
BEGIN:VEVENT
DTSTART;VALUE=DATE:20250707
DTEND;VALUE=DATE:20250708
DTSTAMP:20260426T092411
CREATED:20250315T035023Z
LAST-MODIFIED:20250315T035023Z
UID:3216-1751846400-1751932799@v3.akmet.ac.id
SUMMARY:Pengumuman Hasil Seleksi PMB
DESCRIPTION:
URL:https://v3.akmet.ac.id/event/pengumuman-hasil-seleksi-pmb/
CATEGORIES:PMB
END:VEVENT
BEGIN:VEVENT
DTSTART;VALUE=DATE:20250630
DTEND;VALUE=DATE:20250701
DTSTAMP:20260426T092411
CREATED:20250315T034954Z
LAST-MODIFIED:20250626T020955Z
UID:3214-1751241600-1751327999@v3.akmet.ac.id
SUMMARY:Wawancara secara online
DESCRIPTION:Tata Cara Wawancara disampaikan kemudian
URL:https://v3.akmet.ac.id/event/wawancara-secara-online/
CATEGORIES:PMB
END:VEVENT
BEGIN:VEVENT
DTSTART;VALUE=DATE:20250630
DTEND;VALUE=DATE:20250701
DTSTAMP:20260426T092411
CREATED:20250315T034916Z
LAST-MODIFIED:20250626T021017Z
UID:3212-1751241600-1751327999@v3.akmet.ac.id
SUMMARY:Psikotest secara online
DESCRIPTION:Tata Cara Psikotest disampaikan kemudian
URL:https://v3.akmet.ac.id/event/psikotest-secara-online/
CATEGORIES:PMB
END:VEVENT
BEGIN:VEVENT
DTSTART;VALUE=DATE:20250625
DTEND;VALUE=DATE:20250626
DTSTAMP:20260426T092411
CREATED:20250315T034836Z
LAST-MODIFIED:20250315T035202Z
UID:3210-1750809600-1750895999@v3.akmet.ac.id
SUMMARY:Pengumuman Hasil Test Kemampuan Akademik
DESCRIPTION:
URL:https://v3.akmet.ac.id/event/pengumuman-hasil-test-kemampuan-akademik/
CATEGORIES:PMB
END:VEVENT
BEGIN:VEVENT
DTSTART;VALUE=DATE:20250623
DTEND;VALUE=DATE:20250624
DTSTAMP:20260426T092411
CREATED:20250315T034814Z
LAST-MODIFIED:20250315T035147Z
UID:3208-1750636800-1750723199@v3.akmet.ac.id
SUMMARY:Test Kemampuan Akademik secara online
DESCRIPTION:Test Kemampuan Akademik secara online \n\nMatematika\nFisika\nUmum (Bahasa Inggris\, Bahasa Indonesia\, Pengetahuan Umum\, Kimia)\n\nTata Cara TKA disampaikan kemudian
URL:https://v3.akmet.ac.id/event/test-kemampuan-akademik-secara-online/
CATEGORIES:PMB
END:VEVENT
BEGIN:VEVENT
DTSTART;VALUE=DATE:20250619
DTEND;VALUE=DATE:20250620
DTSTAMP:20260426T092411
CREATED:20250315T034657Z
LAST-MODIFIED:20250315T035133Z
UID:3206-1750291200-1750377599@v3.akmet.ac.id
SUMMARY:Pengumuman Hasil Seleksi Administrasi
DESCRIPTION:
URL:https://v3.akmet.ac.id/event/pengumuman-hasil-seleksi-administrasi/
CATEGORIES:PMB
END:VEVENT
END:VCALENDAR