BEGIN:VCALENDAR
VERSION:2.0
PRODID:-//Akademi Metrologi dan Instrumenasi - ECPv6.15.20//NONSGML v1.0//EN
CALSCALE:GREGORIAN
METHOD:PUBLISH
X-WR-CALNAME:Akademi Metrologi dan Instrumenasi
X-ORIGINAL-URL:https://v3.akmet.ac.id
X-WR-CALDESC:Events for Akademi Metrologi dan Instrumenasi
REFRESH-INTERVAL;VALUE=DURATION:PT1H
X-Robots-Tag:noindex
X-PUBLISHED-TTL:PT1H
BEGIN:VTIMEZONE
TZID:Asia/Jakarta
BEGIN:STANDARD
TZOFFSETFROM:+0700
TZOFFSETTO:+0700
TZNAME:WIB
DTSTART:20240101T000000
END:STANDARD
END:VTIMEZONE
BEGIN:VEVENT
DTSTART;TZID=Asia/Jakarta:20250408T080000
DTEND;TZID=Asia/Jakarta:20250412T170000
DTSTAMP:20260422T021241
CREATED:20250317T032414Z
LAST-MODIFIED:20250323T053140Z
UID:3272-1744099200-1744477200@v3.akmet.ac.id
SUMMARY:UTS Semester Genap TA 2024/2025
DESCRIPTION:Pengumuman Pelaksanaan UTS Semester Genap TA 24-25_REV1
URL:https://v3.akmet.ac.id/event/uts-semester-genap-ta-2024-2025/
CATEGORIES:Perkuliahan
END:VEVENT
END:VCALENDAR